BEGIN:VCALENDAR
VERSION:2.0
PRODID:-//ekomaika.pl - ECPv5.7.0//NONSGML v1.0//EN
CALSCALE:GREGORIAN
METHOD:PUBLISH
X-WR-CALNAME:ekomaika.pl
X-ORIGINAL-URL:http://ekomaika.pl
X-WR-CALDESC:Events for ekomaika.pl
BEGIN:VTIMEZONE
TZID:UTC
BEGIN:STANDARD
TZOFFSETFROM:+0000
TZOFFSETTO:+0000
TZNAME:UTC
DTSTART:20210101T000000
END:STANDARD
END:VTIMEZONE
BEGIN:VEVENT
DTSTART;VALUE=DATE:20210425
DTEND;VALUE=DATE:20210426
DTSTAMP:20260422T130111
CREATED:20210429T114625Z
LAST-MODIFIED:20210429T114625Z
UID:1129-1619308800-1619395199@ekomaika.pl
SUMMARY:Międzynarodowy Dzień Świadomości Zagrożenia Hałasem
DESCRIPTION:W Polsce obchody zapoczątkowało Towarzystwo Higieny Akustycznej w 2000 roku.
URL:http://ekomaika.pl/event/miedzynarodowy-dzien-swiadomosci-zagrozenia-halasem/
END:VEVENT
END:VCALENDAR