BEGIN:VCALENDAR
VERSION:2.0
PRODID:-//ekomaika.pl - ECPv5.7.0//NONSGML v1.0//EN
CALSCALE:GREGORIAN
METHOD:PUBLISH
X-WR-CALNAME:ekomaika.pl
X-ORIGINAL-URL:http://ekomaika.pl
X-WR-CALDESC:Events for ekomaika.pl
BEGIN:VTIMEZONE
TZID:UTC
BEGIN:STANDARD
TZOFFSETFROM:+0000
TZOFFSETTO:+0000
TZNAME:UTC
DTSTART:20210101T000000
END:STANDARD
END:VTIMEZONE
BEGIN:VEVENT
DTSTART;VALUE=DATE:20211211
DTEND;VALUE=DATE:20211212
DTSTAMP:20260419T140559
CREATED:20210719T081135Z
LAST-MODIFIED:20210719T081135Z
UID:1550-1639180800-1639267199@ekomaika.pl
SUMMARY:Międzynarodowy Dzień Terenów Górskich
DESCRIPTION:
URL:http://ekomaika.pl/event/miedzynarodowy-dzien-terenow-gorskich/
END:VEVENT
END:VCALENDAR