BEGIN:VCALENDAR
VERSION:2.0
PRODID:-//ekomaika.pl - ECPv5.7.0//NONSGML v1.0//EN
CALSCALE:GREGORIAN
METHOD:PUBLISH
X-WR-CALNAME:ekomaika.pl
X-ORIGINAL-URL:https://ekomaika.pl
X-WR-CALDESC:Events for ekomaika.pl
BEGIN:VTIMEZONE
TZID:UTC
BEGIN:STANDARD
TZOFFSETFROM:+0000
TZOFFSETTO:+0000
TZNAME:UTC
DTSTART:20210101T000000
END:STANDARD
END:VTIMEZONE
BEGIN:VEVENT
DTSTART;VALUE=DATE:20210508
DTEND;VALUE=DATE:20210509
DTSTAMP:20260420T010828
CREATED:20210512T080859Z
LAST-MODIFIED:20210512T080859Z
UID:1319-1620432000-1620518399@ekomaika.pl
SUMMARY:Światowy Dzień Ptaków Wędrownych
DESCRIPTION:Święto ma na celu promowanie ochrony wędrujących ptaków na całym świecie\, zwłaszcza tych zagrożonych wyginięciem.
URL:https://ekomaika.pl/event/swiatowy-dzien-ptakow-wedrownych/
ATTACH;FMTTYPE=image/png:https://ekomaika.pl/wp-content/uploads/2021/05/Czarny-Bialy-Zyczenia-Jedenasty-Listopada-Post-na-Facebooku-e1620810489405.png
END:VEVENT
END:VCALENDAR