BEGIN:VCALENDAR
VERSION:2.0
PRODID:-//ekomaika.pl - ECPv5.7.0//NONSGML v1.0//EN
CALSCALE:GREGORIAN
METHOD:PUBLISH
X-WR-CALNAME:ekomaika.pl
X-ORIGINAL-URL:https://ekomaika.pl
X-WR-CALDESC:Events for ekomaika.pl
BEGIN:VTIMEZONE
TZID:UTC
BEGIN:STANDARD
TZOFFSETFROM:+0000
TZOFFSETTO:+0000
TZNAME:UTC
DTSTART:20210101T000000
END:STANDARD
END:VTIMEZONE
BEGIN:VEVENT
DTSTART;VALUE=DATE:20211106
DTEND;VALUE=DATE:20211107
DTSTAMP:20260420T030700
CREATED:20210719T075709Z
LAST-MODIFIED:20210719T075709Z
UID:1536-1636156800-1636243199@ekomaika.pl
SUMMARY:Międzynarodowy Dzień Zapobiegania Wyzyskowi Środowiska Naturalnego podczas Wojen i Konfliktów Zbrojnych
DESCRIPTION:
URL:https://ekomaika.pl/event/miedzynarodowy-dzien-zapobiegania-wyzyskowi-srodowiska-naturalnego-podczas-wojen-i-konfliktow-zbrojnych/
END:VEVENT
BEGIN:VEVENT
DTSTART;VALUE=DATE:20211101
DTEND;VALUE=DATE:20211102
DTSTAMP:20260420T030700
CREATED:20210719T075523Z
LAST-MODIFIED:20210719T075523Z
UID:1534-1635724800-1635811199@ekomaika.pl
SUMMARY:Światowy Dzień Wegan
DESCRIPTION:
URL:https://ekomaika.pl/event/swiatowy-dzien-wegan/
END:VEVENT
BEGIN:VEVENT
DTSTART;VALUE=DATE:20211031
DTEND;VALUE=DATE:20211101
DTSTAMP:20260420T030700
CREATED:20210719T075419Z
LAST-MODIFIED:20210719T075419Z
UID:1532-1635638400-1635724799@ekomaika.pl
SUMMARY:Światowy Dzień Miast
DESCRIPTION:
URL:https://ekomaika.pl/event/swiatowy-dzien-miast/
END:VEVENT
BEGIN:VEVENT
DTSTART;VALUE=DATE:20211016
DTEND;VALUE=DATE:20211017
DTSTAMP:20260420T030700
CREATED:20210719T075233Z
LAST-MODIFIED:20210719T075233Z
UID:1530-1634342400-1634428799@ekomaika.pl
SUMMARY:Światowy Dzień Żywności
DESCRIPTION:
URL:https://ekomaika.pl/event/swiatowy-dzien-zywnosci/
END:VEVENT
BEGIN:VEVENT
DTSTART;VALUE=DATE:20211013
DTEND;VALUE=DATE:20211014
DTSTAMP:20260420T030700
CREATED:20210719T074914Z
LAST-MODIFIED:20210719T074914Z
UID:1528-1634083200-1634169599@ekomaika.pl
SUMMARY:Światowy Dzień Zmniejszania Skutków Klęsk Żywiołowych
DESCRIPTION:
URL:https://ekomaika.pl/event/swiatowy-dzien-zmniejszania-skutkow-klesk-zywiolowych/
END:VEVENT
BEGIN:VEVENT
DTSTART;VALUE=DATE:20211010
DTEND;VALUE=DATE:20211011
DTSTAMP:20260420T030700
CREATED:20210719T074809Z
LAST-MODIFIED:20210719T074809Z
UID:1526-1633824000-1633910399@ekomaika.pl
SUMMARY:Światowy Dzień Drzewa
DESCRIPTION:
URL:https://ekomaika.pl/event/swiatowy-dzien-drzewa/
END:VEVENT
BEGIN:VEVENT
DTSTART;VALUE=DATE:20211004
DTEND;VALUE=DATE:20211012
DTSTAMP:20260420T030700
CREATED:20210719T074703Z
LAST-MODIFIED:20210719T074703Z
UID:1524-1633305600-1633996799@ekomaika.pl
SUMMARY:Światowy  Tydzień Dzień Zwierząt
DESCRIPTION:
URL:https://ekomaika.pl/event/swiatowy-tydzien-dzien-zwierzat/
END:VEVENT
BEGIN:VEVENT
DTSTART;VALUE=DATE:20211003
DTEND;VALUE=DATE:20211004
DTSTAMP:20260420T030700
CREATED:20210719T074601Z
LAST-MODIFIED:20210719T074601Z
UID:1521-1633219200-1633305599@ekomaika.pl
SUMMARY:Światowy Dzień Siedlisk
DESCRIPTION:
URL:https://ekomaika.pl/event/swiatowy-dzien-siedlisk/
END:VEVENT
BEGIN:VEVENT
DTSTART;VALUE=DATE:20211002
DTEND;VALUE=DATE:20211003
DTSTAMP:20260420T030700
CREATED:20210719T074432Z
LAST-MODIFIED:20210719T074432Z
UID:1519-1633132800-1633219199@ekomaika.pl
SUMMARY:Światowy Dzień Zwierząt Hodowlanych
DESCRIPTION:
URL:https://ekomaika.pl/event/swiatowy-dzien-zwierzat-hodowlanych/
END:VEVENT
BEGIN:VEVENT
DTSTART;VALUE=DATE:20211001
DTEND;VALUE=DATE:20211002
DTSTAMP:20260420T030700
CREATED:20210719T074130Z
LAST-MODIFIED:20210719T074130Z
UID:1516-1633046400-1633132799@ekomaika.pl
SUMMARY:Dzień Wegetarianina
DESCRIPTION:
URL:https://ekomaika.pl/event/dzien-wegetarianina/
END:VEVENT
BEGIN:VEVENT
DTSTART;VALUE=DATE:20210928
DTEND;VALUE=DATE:20210929
DTSTAMP:20260420T030700
CREATED:20210719T072914Z
LAST-MODIFIED:20210719T072914Z
UID:1513-1632787200-1632873599@ekomaika.pl
SUMMARY:Dzień Morza
DESCRIPTION:
URL:https://ekomaika.pl/event/dzien-morza/
END:VEVENT
BEGIN:VEVENT
DTSTART;VALUE=DATE:20210927
DTEND;VALUE=DATE:20210928
DTSTAMP:20260420T030700
CREATED:20210719T072816Z
LAST-MODIFIED:20210719T072816Z
UID:1511-1632700800-1632787199@ekomaika.pl
SUMMARY:Światowy Dzień Turystyki
DESCRIPTION:
URL:https://ekomaika.pl/event/swiatowy-dzien-turystyki/
END:VEVENT
BEGIN:VEVENT
DTSTART;VALUE=DATE:20210926
DTEND;VALUE=DATE:20210927
DTSTAMP:20260420T030700
CREATED:20210719T072726Z
LAST-MODIFIED:20210719T072726Z
UID:1509-1632614400-1632700799@ekomaika.pl
SUMMARY:Światowy Dzień Rzek
DESCRIPTION:
URL:https://ekomaika.pl/event/swiatowy-dzien-rzek/
END:VEVENT
BEGIN:VEVENT
DTSTART;VALUE=DATE:20210923
DTEND;VALUE=DATE:20210924
DTSTAMP:20260420T030700
CREATED:20210719T072642Z
LAST-MODIFIED:20210719T072642Z
UID:1507-1632355200-1632441599@ekomaika.pl
SUMMARY:Święto Plonów
DESCRIPTION:
URL:https://ekomaika.pl/event/swieto-plonow/
END:VEVENT
BEGIN:VEVENT
DTSTART;VALUE=DATE:20210922
DTEND;VALUE=DATE:20210923
DTSTAMP:20260420T030700
CREATED:20210719T072521Z
LAST-MODIFIED:20210719T072521Z
UID:1505-1632268800-1632355199@ekomaika.pl
SUMMARY:Europejski Dzień bez Samochodu
DESCRIPTION:
URL:https://ekomaika.pl/event/europejski-dzien-bez-samochodu/
END:VEVENT
BEGIN:VEVENT
DTSTART;VALUE=DATE:20210921
DTEND;VALUE=DATE:20210924
DTSTAMP:20260420T030700
CREATED:20210719T072419Z
LAST-MODIFIED:20210719T072419Z
UID:1503-1632182400-1632441599@ekomaika.pl
SUMMARY:Sprzątanie świata
DESCRIPTION:
URL:https://ekomaika.pl/event/sprzatanie-swiata/
END:VEVENT
BEGIN:VEVENT
DTSTART;VALUE=DATE:20210919
DTEND;VALUE=DATE:20210920
DTSTAMP:20260420T030700
CREATED:20210719T072310Z
LAST-MODIFIED:20210719T072310Z
UID:1501-1632009600-1632095999@ekomaika.pl
SUMMARY:Dzień Dzikiej Flory\, Fauny i Naturalnych Siedlisk
DESCRIPTION:
URL:https://ekomaika.pl/event/dzien-dzikiej-flory-fauny-i-naturalnych-siedlisk/
END:VEVENT
BEGIN:VEVENT
DTSTART;VALUE=DATE:20210916
DTEND;VALUE=DATE:20210923
DTSTAMP:20260420T030700
CREATED:20210719T072137Z
LAST-MODIFIED:20210719T072137Z
UID:1499-1631750400-1632355199@ekomaika.pl
SUMMARY:Europejski Tydzień Zrównoważonego Transportu
DESCRIPTION:
URL:https://ekomaika.pl/event/europejski-tydzien-zrownowazonego-transportu/
END:VEVENT
BEGIN:VEVENT
DTSTART;VALUE=DATE:20210916
DTEND;VALUE=DATE:20210917
DTSTAMP:20260420T030700
CREATED:20210719T072001Z
LAST-MODIFIED:20210719T072001Z
UID:1497-1631750400-1631836799@ekomaika.pl
SUMMARY:Dzień Łosia
DESCRIPTION:
URL:https://ekomaika.pl/event/dzien-losia/
END:VEVENT
BEGIN:VEVENT
DTSTART;VALUE=DATE:20210916
DTEND;VALUE=DATE:20210917
DTSTAMP:20260420T030700
CREATED:20210719T071920Z
LAST-MODIFIED:20210719T071920Z
UID:1495-1631750400-1631836799@ekomaika.pl
SUMMARY:Międzynarodowy Dzień Ochrony Warstwy Ozonowej
DESCRIPTION:
URL:https://ekomaika.pl/event/miedzynarodowy-dzien-ochrony-warstwy-ozonowej/
END:VEVENT
BEGIN:VEVENT
DTSTART;VALUE=DATE:20210829
DTEND;VALUE=DATE:20210830
DTSTAMP:20260420T030700
CREATED:20210715T134500Z
LAST-MODIFIED:20210715T134500Z
UID:1490-1630195200-1630281599@ekomaika.pl
SUMMARY:Międzynarodowy Dzień Sprzeciwu wobec Prób Jądrowych
DESCRIPTION:
URL:https://ekomaika.pl/event/miedzynarodowy-dzien-sprzeciwu-wobec-prob-jadrowych/
END:VEVENT
BEGIN:VEVENT
DTSTART;VALUE=DATE:20210828
DTEND;VALUE=DATE:20210829
DTSTAMP:20260420T030700
CREATED:20210715T134148Z
LAST-MODIFIED:20210715T134813Z
UID:1488-1630108800-1630195199@ekomaika.pl
SUMMARY:Międzynarodowa Noc Nietoperzy
DESCRIPTION:
URL:https://ekomaika.pl/event/miedzynarodowa-noc-nietoperzy/
END:VEVENT
BEGIN:VEVENT
DTSTART;VALUE=DATE:20210814
DTEND;VALUE=DATE:20210815
DTSTAMP:20260420T030700
CREATED:20210715T134100Z
LAST-MODIFIED:20210715T134100Z
UID:1486-1628899200-1628985599@ekomaika.pl
SUMMARY:Dzień Energetyka
DESCRIPTION:
URL:https://ekomaika.pl/event/dzien-energetyka/
END:VEVENT
BEGIN:VEVENT
DTSTART;VALUE=DATE:20210808
DTEND;VALUE=DATE:20210809
DTSTAMP:20260420T030700
CREATED:20210715T134021Z
LAST-MODIFIED:20210715T134021Z
UID:1484-1628380800-1628467199@ekomaika.pl
SUMMARY:Dzień Pszczół
DESCRIPTION:
URL:https://ekomaika.pl/event/dzien-pszczol/
END:VEVENT
BEGIN:VEVENT
DTSTART;VALUE=DATE:20210729
DTEND;VALUE=DATE:20210730
DTSTAMP:20260420T030700
CREATED:20210715T091206Z
LAST-MODIFIED:20210715T091206Z
UID:1476-1627516800-1627603199@ekomaika.pl
SUMMARY:Światowy Dzień Tygrysa
DESCRIPTION:
URL:https://ekomaika.pl/event/swiatowy-dzien-tygrysa/
END:VEVENT
BEGIN:VEVENT
DTSTART;VALUE=DATE:20210715
DTEND;VALUE=DATE:20210716
DTSTAMP:20260420T030700
CREATED:20210715T090721Z
LAST-MODIFIED:20210715T090721Z
UID:1474-1626307200-1626393599@ekomaika.pl
SUMMARY:Światowy Dzień bez Telefonu Komórkowego
DESCRIPTION:
URL:https://ekomaika.pl/event/swiatowy-dzien-bez-telefonu-komorkowego/
END:VEVENT
BEGIN:VEVENT
DTSTART;VALUE=DATE:20210711
DTEND;VALUE=DATE:20210712
DTSTAMP:20260420T030700
CREATED:20210715T090611Z
LAST-MODIFIED:20210715T090611Z
UID:1472-1625961600-1626047999@ekomaika.pl
SUMMARY:Światowy Dzień Ludności
DESCRIPTION:
URL:https://ekomaika.pl/event/swiatowy-dzien-ludnosci/
END:VEVENT
BEGIN:VEVENT
DTSTART;VALUE=DATE:20210703
DTEND;VALUE=DATE:20210704
DTSTAMP:20260420T030700
CREATED:20210715T090330Z
LAST-MODIFIED:20210715T090330Z
UID:1470-1625270400-1625356799@ekomaika.pl
SUMMARY:Dzień wypadów do parku
DESCRIPTION:
URL:https://ekomaika.pl/event/dzien-wypadow-do-parku/
END:VEVENT
BEGIN:VEVENT
DTSTART;VALUE=DATE:20210703
DTEND;VALUE=DATE:20210704
DTSTAMP:20260420T030700
CREATED:20210715T081633Z
LAST-MODIFIED:20210715T081633Z
UID:1460-1625270400-1625356799@ekomaika.pl
SUMMARY:Unia Europejska wprowadza zakaz używania słomek i naczyń jednorazowych z plastiku
DESCRIPTION:
URL:https://ekomaika.pl/event/unia-europejska-wprowadza-zakaz-uzywania-slomek-i-naczyn-jednorazowych-z-plastiku/
END:VEVENT
BEGIN:VEVENT
DTSTART;VALUE=DATE:20210701
DTEND;VALUE=DATE:20210702
DTSTAMP:20260420T030700
CREATED:20210715T085958Z
LAST-MODIFIED:20210715T085958Z
UID:1467-1625097600-1625183999@ekomaika.pl
SUMMARY:Dzień psa
DESCRIPTION:
URL:https://ekomaika.pl/event/dzien-psa/
END:VEVENT
END:VCALENDAR