BEGIN:VCALENDAR
VERSION:2.0
PRODID:-//ekomaika.pl - ECPv5.7.0//NONSGML v1.0//EN
CALSCALE:GREGORIAN
METHOD:PUBLISH
X-WR-CALNAME:ekomaika.pl
X-ORIGINAL-URL:https://ekomaika.pl
X-WR-CALDESC:Events for ekomaika.pl
BEGIN:VTIMEZONE
TZID:UTC
BEGIN:STANDARD
TZOFFSETFROM:+0000
TZOFFSETTO:+0000
TZNAME:UTC
DTSTART:20210101T000000
END:STANDARD
END:VTIMEZONE
BEGIN:VEVENT
DTSTART;VALUE=DATE:20210508
DTEND;VALUE=DATE:20210509
DTSTAMP:20260420T070520
CREATED:20210512T080859Z
LAST-MODIFIED:20210512T080859Z
UID:1319-1620432000-1620518399@ekomaika.pl
SUMMARY:Światowy Dzień Ptaków Wędrownych
DESCRIPTION:Święto ma na celu promowanie ochrony wędrujących ptaków na całym świecie\, zwłaszcza tych zagrożonych wyginięciem.
URL:https://ekomaika.pl/event/swiatowy-dzien-ptakow-wedrownych/
ATTACH;FMTTYPE=image/png:https://ekomaika.pl/wp-content/uploads/2021/05/Czarny-Bialy-Zyczenia-Jedenasty-Listopada-Post-na-Facebooku-e1620810489405.png
END:VEVENT
BEGIN:VEVENT
DTSTART;VALUE=DATE:20210503
DTEND;VALUE=DATE:20210504
DTSTAMP:20260420T070520
CREATED:20210512T082630Z
LAST-MODIFIED:20210512T082630Z
UID:1323-1620000000-1620086399@ekomaika.pl
SUMMARY:Dzień bez komputera
DESCRIPTION:
URL:https://ekomaika.pl/event/dzien-bez-komputera/
END:VEVENT
BEGIN:VEVENT
DTSTART;VALUE=DATE:20210425
DTEND;VALUE=DATE:20210426
DTSTAMP:20260420T070520
CREATED:20210429T114625Z
LAST-MODIFIED:20210429T114625Z
UID:1129-1619308800-1619395199@ekomaika.pl
SUMMARY:Międzynarodowy Dzień Świadomości Zagrożenia Hałasem
DESCRIPTION:W Polsce obchody zapoczątkowało Towarzystwo Higieny Akustycznej w 2000 roku.
URL:https://ekomaika.pl/event/miedzynarodowy-dzien-swiadomosci-zagrozenia-halasem/
END:VEVENT
BEGIN:VEVENT
DTSTART;VALUE=DATE:20210424
DTEND;VALUE=DATE:20210425
DTSTAMP:20260420T070520
CREATED:20210429T112904Z
LAST-MODIFIED:20210429T113041Z
UID:1125-1619222400-1619308799@ekomaika.pl
SUMMARY:Dzień Zwierząt Laboratoryjnych
DESCRIPTION:Międzynarodowy Dzień Przeciwko Wiwisekcji
URL:https://ekomaika.pl/event/dzien-zwierzat-laboratoryjnych/
END:VEVENT
BEGIN:VEVENT
DTSTART;VALUE=DATE:20210422
DTEND;VALUE=DATE:20210423
DTSTAMP:20260420T070520
CREATED:20210412T184332Z
LAST-MODIFIED:20210412T184410Z
UID:940-1619049600-1619135999@ekomaika.pl
SUMMARY:Dzień Ziemi
DESCRIPTION:Dzień Ziemi\, znany też jako Światowy Dzień Ziemi lub Międzynarodowy Dzień Ziemi
URL:https://ekomaika.pl/event/dzien-ziemi/
END:VEVENT
BEGIN:VEVENT
DTSTART;VALUE=DATE:20210416
DTEND;VALUE=DATE:20210417
DTSTAMP:20260420T070520
CREATED:20210416T073059Z
LAST-MODIFIED:20210429T113339Z
UID:1051-1618531200-1618617599@ekomaika.pl
SUMMARY:Dzień Gapienia się w Niebo
DESCRIPTION:Patrzeć się można na chmury\, ptaki\, samoloty w dzień\, ale też i nocą.
URL:https://ekomaika.pl/event/dzien-gapienia-sie-w-niebo/
END:VEVENT
BEGIN:VEVENT
DTSTART;VALUE=DATE:20210401
DTEND;VALUE=DATE:20210402
DTSTAMP:20260420T070520
CREATED:20210715T085248Z
LAST-MODIFIED:20210715T085540Z
UID:1465-1617235200-1617321599@ekomaika.pl
SUMMARY:Dzień ptaka
DESCRIPTION:
URL:https://ekomaika.pl/event/dzien-ptaka/
END:VEVENT
END:VCALENDAR