BEGIN:VCALENDAR
VERSION:2.0
PRODID:-//ekomaika.pl - ECPv5.7.0//NONSGML v1.0//EN
CALSCALE:GREGORIAN
METHOD:PUBLISH
X-WR-CALNAME:ekomaika.pl
X-ORIGINAL-URL:https://ekomaika.pl
X-WR-CALDESC:Events for ekomaika.pl
BEGIN:VTIMEZONE
TZID:UTC
BEGIN:STANDARD
TZOFFSETFROM:+0000
TZOFFSETTO:+0000
TZNAME:UTC
DTSTART:20230101T000000
END:STANDARD
END:VTIMEZONE
BEGIN:VEVENT
DTSTART;VALUE=DATE:20230216
DTEND;VALUE=DATE:20230217
DTSTAMP:20260426T020016
CREATED:20230215T084655Z
LAST-MODIFIED:20230222T081553Z
UID:6667-1676505600-1676591999@ekomaika.pl
SUMMARY:Dzień Kota
DESCRIPTION:Kota dzień \n \n 
URL:https://ekomaika.pl/event/dzien-kota/
END:VEVENT
BEGIN:VEVENT
DTSTART;VALUE=DATE:20230227
DTEND;VALUE=DATE:20230228
DTSTAMP:20260426T020016
CREATED:20230222T081319Z
LAST-MODIFIED:20230222T081319Z
UID:6670-1677456000-1677542399@ekomaika.pl
SUMMARY:Dzień Niedźwiedzia Polarnego
DESCRIPTION:Dzień Polarnego Niedźwiedzia \n \n 
URL:https://ekomaika.pl/event/dzien-niedzwiedzia-polarnego/
END:VEVENT
END:VCALENDAR