BEGIN:VCALENDAR
VERSION:2.0
METHOD:PUBLISH
PRODID:-//Accessible Web Design//My Calendar//http://www.joedolson.com//v//EN';
BEGIN:VEVENT
UID:113-15
LOCATION:
SUMMARY:Światowy Dzień Bałwana
DTSTAMP:20230118T000000
ORGANIZER;CN=admin:MAILTO:redakcjamaika@gmail.com
DTSTART:20230118T000000
DTEND:20230118T010000
CATEGORIES:General
URL;VALUE=URI:
DESCRIPTION;ENCODING=QUOTED-PRINTABLE: 
END:VEVENT
END:VCALENDAR