BEGIN:VCALENDAR
VERSION:2.0
METHOD:PUBLISH
PRODID:-//Accessible Web Design//My Calendar//http://www.joedolson.com//v//EN';
BEGIN:VEVENT
UID:1169-208
LOCATION:
SUMMARY:Wspomnienie św. Mikołaja
DTSTAMP:20231206
ORGANIZER;CN=admin:MAILTO:redakcjamaika@gmail.com
DTSTART:20231206
DTEND:20231207
CATEGORIES:General
URL;VALUE=URI:
DESCRIPTION;ENCODING=QUOTED-PRINTABLE: 
X-FUNAMBOL-ALLDAY: 1
X-MICROSOFT-CDO-ALLDAYEVENT: TRUE

END:VEVENT
END:VCALENDAR