BEGIN:VCALENDAR
VERSION:2.0
METHOD:PUBLISH
PRODID:-//Accessible Web Design//My Calendar//http://www.joedolson.com//v//EN';
BEGIN:VEVENT
UID:1299-225
LOCATION:
SUMMARY:Wspomnienie św. Macieja Apostoła
DTSTAMP:20230224
ORGANIZER;CN=admin:MAILTO:redakcjamaika@gmail.com
DTSTART:20230224
DTEND:20230225
CATEGORIES:General
URL;VALUE=URI:
DESCRIPTION;ENCODING=QUOTED-PRINTABLE: 
X-FUNAMBOL-ALLDAY: 1
X-MICROSOFT-CDO-ALLDAYEVENT: TRUE

END:VEVENT
END:VCALENDAR