BEGIN:VCALENDAR
VERSION:2.0
METHOD:PUBLISH
PRODID:-//Accessible Web Design//My Calendar//http://www.joedolson.com//v//EN';
BEGIN:VEVENT
UID:663-98
LOCATION:
SUMMARY:Dzień Mycia Rąk
DTSTAMP:20231015T000000
ORGANIZER;CN=admin:MAILTO:redakcjamaika@gmail.com
DTSTART:20231015T000000
DTEND:20231015T010000
CATEGORIES:General
URL;VALUE=URI:
DESCRIPTION;ENCODING=QUOTED-PRINTABLE: 
END:VEVENT
END:VCALENDAR