BEGIN:VCALENDAR
VERSION:2.0
METHOD:PUBLISH
PRODID:-//Accessible Web Design//My Calendar//http://www.joedolson.com//v//EN';
BEGIN:VEVENT
UID:753-107
LOCATION:
SUMMARY:Międzynarodowy Dzień Ludności Rdzennej na Świecie
DTSTAMP:20230809T000000
ORGANIZER;CN=admin:MAILTO:redakcjamaika@gmail.com
DTSTART:20230809T000000
DTEND:20230809T010000
CATEGORIES:General
URL;VALUE=URI:
DESCRIPTION;ENCODING=QUOTED-PRINTABLE: 
END:VEVENT
END:VCALENDAR