BEGIN:VCALENDAR
VERSION:2.0
METHOD:PUBLISH
PRODID:-//Accessible Web Design//My Calendar//http://www.joedolson.com//v//EN';
BEGIN:VEVENT
UID:800-112
LOCATION:
SUMMARY:Światowy Dzień Ludności
DTSTAMP:20230711T000000
ORGANIZER;CN=admin:MAILTO:redakcjamaika@gmail.com
DTSTART:20230711T000000
DTEND:20230711T010000
CATEGORIES:General
URL;VALUE=URI:
DESCRIPTION;ENCODING=QUOTED-PRINTABLE: 
END:VEVENT
END:VCALENDAR