BEGIN:VCALENDAR
VERSION:2.0
METHOD:PUBLISH
PRODID:-//Accessible Web Design//My Calendar//http://www.joedolson.com//v//EN';
BEGIN:VEVENT
UID:839-133
LOCATION:
SUMMARY:Pierwszy Dzień Lata
DTSTAMP:20230622
ORGANIZER;CN=admin:MAILTO:redakcjamaika@gmail.com
DTSTART:20230622
DTEND:20230623
CATEGORIES:General
URL;VALUE=URI:
DESCRIPTION;ENCODING=QUOTED-PRINTABLE: 
X-FUNAMBOL-ALLDAY: 1
X-MICROSOFT-CDO-ALLDAYEVENT: TRUE

END:VEVENT
END:VCALENDAR