BEGIN:VCALENDAR
VERSION:2.0
METHOD:PUBLISH
PRODID:-//Accessible Web Design//My Calendar//http://www.joedolson.com//v//EN';
BEGIN:VEVENT
UID:968-184
LOCATION:
SUMMARY:Dzień Dokarmiania Zwierzyny Leśnej
DTSTAMP:20230211
ORGANIZER;CN=admin:MAILTO:redakcjamaika@gmail.com
DTSTART:20230211
DTEND:20230212
CATEGORIES:General
URL;VALUE=URI:
DESCRIPTION;ENCODING=QUOTED-PRINTABLE: 
X-FUNAMBOL-ALLDAY: 1
X-MICROSOFT-CDO-ALLDAYEVENT: TRUE

END:VEVENT
END:VCALENDAR